





BEGIN:VCALENDAR
VERSION:2.0
PRODID:-//NH Lakes Region Tourism Association - ECPv6.15.20//NONSGML v1.0//EN
CALSCALE:GREGORIAN
METHOD:PUBLISH
X-WR-CALNAME:NH Lakes Region Tourism Association
X-ORIGINAL-URL:https://www.lakesregion.org
X-WR-CALDESC:Events for NH Lakes Region Tourism Association
REFRESH-INTERVAL;VALUE=DURATION:PT1H
X-Robots-Tag:noindex
X-PUBLISHED-TTL:PT1H
BEGIN:VTIMEZONE
TZID:America/New_York
BEGIN:DAYLIGHT
TZOFFSETFROM:-0500
TZOFFSETTO:-0400
TZNAME:EDT
DTSTART:20250309T070000
END:DAYLIGHT
BEGIN:STANDARD
TZOFFSETFROM:-0400
TZOFFSETTO:-0500
TZNAME:EST
DTSTART:20251102T060000
END:STANDARD
BEGIN:DAYLIGHT
TZOFFSETFROM:-0500
TZOFFSETTO:-0400
TZNAME:EDT
DTSTART:20260308T070000
END:DAYLIGHT
BEGIN:STANDARD
TZOFFSETFROM:-0400
TZOFFSETTO:-0500
TZNAME:EST
DTSTART:20261101T060000
END:STANDARD
BEGIN:DAYLIGHT
TZOFFSETFROM:-0500
TZOFFSETTO:-0400
TZNAME:EDT
DTSTART:20270314T070000
END:DAYLIGHT
BEGIN:STANDARD
TZOFFSETFROM:-0400
TZOFFSETTO:-0500
TZNAME:EST
DTSTART:20271107T060000
END:STANDARD
END:VTIMEZONE
BEGIN:VEVENT
DTSTART;TZID=America/New_York:20260110T100000
DTEND;TZID=America/New_York:20260110T120000
DTSTAMP:20260423T104909
CREATED:20251106T035704Z
LAST-MODIFIED:20251106T035704Z
UID:10040608-1768039200-1768046400@www.lakesregion.org
SUMMARY:Cross-Country Ski Lessons and Cross-Country Skiing - Bolduc Park\, Gilford NH
DESCRIPTION:This winter the Bolduc Park Association will be \nhaving Cross Country Ski Lessons and Cross-Country Skiing \nproviding there is snow. \n  \nThe lessons will take place at Bolduc Park on Saturday \nJanuary 10\,17\,24\,31\, 2026 at 10:00 A.M. \n  \nRegistration Forms will be available on the BPA WEB Site \nlater in November. To access the WEB Site its bolducpark.org
URL:https://www.lakesregion.org/event/cross-country-ski-lessons-and-cross-country-skiing-bolduc-park-gilford-nh/2026-01-10/
CATEGORIES:Family Fun,Outdoor Adventure
ATTACH;FMTTYPE=image/jpeg:https://www.lakesregion.org/wp-content/uploads/2025/11/BPA_Winter_Picture_1733036344.jpg
END:VEVENT
BEGIN:VEVENT
DTSTART;TZID=America/New_York:20260110T113000
DTEND;TZID=America/New_York:20260110T133000
DTSTAMP:20260423T104909
CREATED:20251125T041520Z
LAST-MODIFIED:20251125T041520Z
UID:10041560-1768044600-1768051800@www.lakesregion.org
SUMMARY:Winter Lunch at Castle in the Clouds - Carriage House Restaurant\, Moultonborough NH
DESCRIPTION:Winter Lunch at the Castle returns on Saturdays and Sundays from January 10 through April 19\, 2026. Join us in the Carriage House Restaurant before or after a day of adventure in the Lakes Region of New Hampshire at 11:30am\, 12:30pm\, or 1:30pm.  \nReservations are required and available now. \nJoin us for Winter Lunch at Castle in the Clouds! Winter Lunch at the Castle is back and offers the perfect blend of delicious food\, rustic ambiance\, and winter fun to create unforgettable dining experience in the heart of the Lakes Region of New Hampshire. \nMake it a Day at the Castle!\nElevate your winter outing by turning it into a day of exploration and enjoyment. Plan a hike\, cross-country skiing\, or snowshoeing on the picturesque Lakes Region Conservation Trust trails\, before or after heading over to the Carriage House Restaurant to enjoy the delights of Winter Lunch at the Castle. \nEmbrace the Season with Winter Lunch at the Castle\nWinter Lunch at the Castle is $40 per person (Adult) and $20 (12 & Under ordering from Children’s Menu) and includes your choice of starter\, entrée\, nonalcoholic beverage as well as tax and gratuity. Full bar and dessert options are available for purchase. \nCastle in the Clouds requires online reservations to be made by midnight of the preceding Thursday. You’ll be presented with the current prix fixe menu upon arrival at the Carriage House Restaurant. \nIn the event of inclement weather\, you will be notified of cancellation via phone/email the day-of. If the Castle has to cancel then a full refund will be made available\, otherwise All reservation sales are final. As stated when you made your reservation\, there are no refunds\, transfers to other dates\, or exchanges once your reservation is booked. \n\nTo access the Carriage House Restaurant\, please use the following GPS address: \n586 Ossipee Park Road\nMoultonborough\, NH 03254 \nParking is available in our main visitor lot\, and accessible parking is available right in front of the Carriage House. \n Register   Sat Jan 10\, 2026 \n Register   Sun Jan 11\, 2026 \n Register   Sat Jan 17\, 2026 \n Register   Sun Jan 18\, 2026 \n Register   Sat Jan 24\, 2026 \n Register   Sun Jan 25\, 2026 \n Register   Sat Jan 31\, 2026 \n Register   Sun Feb 1\, 2026 \n Register   Sat Feb 7\, 2026 \n Register   Sun Feb 8\, 2026 \n Register   Sat Feb 14\, 2026 \n Register   Sun Feb 15\, 2026 \n Register   Sat Feb 21\, 2026 \n Register   Sun Feb 22\, 2026 \n Register   Sat Feb 28\, 2026 \n Register   Sun Mar 1\, 2026 \n Register   Sat Mar 7\, 2026 \n Register   Sun Mar 8\, 2026 \n Register   Sat Mar 14\, 2026 \n Register   Sun Mar 15\, 2026 \n Register   Sat Mar 21\, 2026 \n Register   Sun Mar 22\, 2026 \n Register   Sat Mar 28\, 2026 \n Register   Sun Mar 29\, 2026 \n Register   Sat Apr 11\, 2026 \n Register   Sun Apr 12\, 2026 \n Register   Sat Apr 18\, 2026 \n Register   Sun Apr 19\, 2026
URL:https://www.lakesregion.org/event/winter-lunch-at-castle-in-the-clouds-carriage-house-restaurant-moultonborough-nh/2026-01-10/
CATEGORIES:Family Fun
ATTACH;FMTTYPE=image/png:https://www.lakesregion.org/wp-content/uploads/2025/11/unnamed-5.png
END:VEVENT
END:VCALENDAR