





BEGIN:VCALENDAR
VERSION:2.0
PRODID:-//NH Lakes Region Tourism Association - ECPv6.15.20//NONSGML v1.0//EN
CALSCALE:GREGORIAN
METHOD:PUBLISH
X-WR-CALNAME:NH Lakes Region Tourism Association
X-ORIGINAL-URL:https://www.lakesregion.org
X-WR-CALDESC:Events for NH Lakes Region Tourism Association
REFRESH-INTERVAL;VALUE=DURATION:PT1H
X-Robots-Tag:noindex
X-PUBLISHED-TTL:PT1H
BEGIN:VTIMEZONE
TZID:America/New_York
BEGIN:DAYLIGHT
TZOFFSETFROM:-0500
TZOFFSETTO:-0400
TZNAME:EDT
DTSTART:20250309T070000
END:DAYLIGHT
BEGIN:STANDARD
TZOFFSETFROM:-0400
TZOFFSETTO:-0500
TZNAME:EST
DTSTART:20251102T060000
END:STANDARD
BEGIN:DAYLIGHT
TZOFFSETFROM:-0500
TZOFFSETTO:-0400
TZNAME:EDT
DTSTART:20260308T070000
END:DAYLIGHT
BEGIN:STANDARD
TZOFFSETFROM:-0400
TZOFFSETTO:-0500
TZNAME:EST
DTSTART:20261101T060000
END:STANDARD
BEGIN:DAYLIGHT
TZOFFSETFROM:-0500
TZOFFSETTO:-0400
TZNAME:EDT
DTSTART:20270314T070000
END:DAYLIGHT
BEGIN:STANDARD
TZOFFSETFROM:-0400
TZOFFSETTO:-0500
TZNAME:EST
DTSTART:20271107T060000
END:STANDARD
END:VTIMEZONE
BEGIN:VEVENT
DTSTART;TZID=America/New_York:20260209T080000
DTEND;TZID=America/New_York:20260209T160000
DTSTAMP:20260419T132629
CREATED:20260201T013245Z
LAST-MODIFIED:20260326T153430Z
UID:10044521-1770624000-1770652800@www.lakesregion.org
SUMMARY:Winter at Mount Sunapee Resort\, Newbury NH
DESCRIPTION:For tickets go to:\nmountsunapee.com\n\nHours Midweek 9am-4pm\nWeekends 8am-4pm\nHours are subject to change based on weather\, activity and operating conditions\, for questions on hours please contact us at 603.763.3500\n\nTickets\n& Passes\n\n\n\n\n\nExplore with a Snow Bike\nGlide down the slopes on snow bikes\, combining the excitement of skiing with the ease of biking. Perfect for all skill levels\, Sno-Go bikes make it simple to explore the mountain in a whole new way. Whether you’re a seasoned pro or a first-timer\, Sno-Go Tours promise fun\, laughter\, and unforgettable memories. \n\nLearn More\n\n\n\n\n\nWicked Wednesday? \n\n\nGrab discounted lift tickets for just $76\, and sneak in mid-week laps. We won’t tell your boss.  Promise.\n\n\nP.S. The deal gets even better when you purchase online in advance\, knocking the price down to just $61.\n\n\nGrab your ticket now: https://bit.ly/3jbJ2gq\n\n\n\nMount Sunapee’s closing date varies yearly but typically falls in early to mid-April\, with recent projections for the 2025-2026 winter season pointing to April 5\, 2026\, though this is a projection and subject to snow conditions\, with past seasons closing around April 7th or 9th. Always check Mount Sunapee’s official website as the date approaches for the most accurate information\, as it depends on snow\n\n\nMount Sunapee Resort / 1398 Rte. 103 / Newbury NH\n603-763-3576
URL:https://www.lakesregion.org/event/winter-at-mount-sunapee-resort-newbury-nh/2026-02-09/
CATEGORIES:Family Fun,Outdoor Adventure
ATTACH;FMTTYPE=image/avif:https://www.lakesregion.org/wp-content/uploads/2026/01/20230127_MS_Loosmann_004_Featured-Content-AND-Sliding-Cards-AND-Container-Long-Amount.avif
END:VEVENT
BEGIN:VEVENT
DTSTART;TZID=America/New_York:20260209T090000
DTEND;TZID=America/New_York:20260209T180000
DTSTAMP:20260419T132629
CREATED:20260201T020918Z
LAST-MODIFIED:20260201T020945Z
UID:10044585-1770627600-1770660000@www.lakesregion.org
SUMMARY:Winter at King Pine Ski Area - Purity Spring Resort\, East Madison NH
DESCRIPTION:King Pine is winter fun for the entire family offering affordable skiing\, snowboarding\, snow tubing\, ice-skating\, cross-country skiing\, snowshoeing and slope side lodging.\n\n\nkingpine.com\n\n\nBuy Tickets\, Rentals & Lessons \nView Our Snow Report For The Latest Conditions: Click Here\n\n\nPeak Season (Dec 26 – Feb Vacation End):\n\nMidweek: 10 a.m. – 6 p.m. (with 8 p.m. on Tuesdays)\nWeekend/Holiday: 9 a.m. – 6 p.m.\n\nLate Season (After Feb Vacation – Season End):\n\nMidweek: 10 a.m. – 4 p.m. (with 8 p.m. on Tuesdays)\nWeekend: 9 a.m. – 4 p.m.\n\nNight Skiing (Twilight):\n\nDaily: 3:30 p.m. – 6 p.m.\nTuesdays: Until 8 p.m. (Mid-Dec to Mid-March)\n\nPro Tip: Hours can change\, especially for tubing or holidays\, so it’s best to verify directly on the King Pine website for your specific visit date\n\nKing Pine Ski Area’s projected closing date for the 2025-2026 season is\nSunday\, March 29\, 2026\, though this can change based on snow conditions\, as it’s a variable date for the end of the late season period \n\nFor real-time updates as the season ends\, always check the King Pine website or their Snow Report.\n\n\nKing Pine Ski Area / 1251 Eaton Road / East Madison NH
URL:https://www.lakesregion.org/event/winter-at-king-pine-ski-area-purity-spring-resort-east-madison-nh/2026-02-09/
CATEGORIES:Family Fun,Outdoor Adventure
ATTACH;FMTTYPE=image/jpeg:https://www.lakesregion.org/wp-content/uploads/2026/01/621733888_1455520046578311_9220972618673335051_n.jpg
END:VEVENT
BEGIN:VEVENT
DTSTART;TZID=America/New_York:20260209T100000
DTEND;TZID=America/New_York:20260209T113000
DTSTAMP:20260419T132629
CREATED:20251011T022754Z
LAST-MODIFIED:20260112T003549Z
UID:10038991-1770631200-1770636600@www.lakesregion.org
SUMMARY:NEW! Pollywog Pals Geared for Ages 3 - 5\, Participation of any Age is Always Welcome! - Living Shores Aquarium\, Glen NH
DESCRIPTION:Dive Deeper into Learning About the World Around Us \n\nJoin us at 10:15am on select Mondays for a story time & fun! \nChildren ages 3 – 5 are invited to enjoy a themed story time with an interactive craft to take home. Each story time\, we will spotlight a featured animal so our littlest pollywogs can see it up close\, and guests can explore the aquarium before or after the program. Pollywog Pals runs from 10:15am to roughly 11:15am on select Mondays listed below\, and each program will feature a different theme. \nJanuary 12  Pollywog Pals: Jellyfish Edition! Explore the fascinating world of jellyfish\, and enjoy story time and a hands-on craft for our littlest pollywogs. Don’t miss this underwater adventure!\nFebruary 9\nMarch 9\nApril 13\nMay 11 \nA snack and drink matching the week’s theme will be available for purchase at the Bistro at Living Shores\, and our full service Dunkin’ will be open\, too! Although the activity is geared to younger children\, participation of any age is always welcome. Participation in Pollywog Pals is included with the price of admission to Living Shores\, including Story Land Platinum Passes. \n\n\n\n\n\n\n\n\n\n\n\n\n\n\n\n\n\n\n\n\nBuy Tickets\n\n\n\n\n\n\n\n\n\n\n\nLiving Shores Aquarium / 850 NH Rte.16 / Glen NH
URL:https://www.lakesregion.org/event/new-pollywog-pals-geared-for-ages-3-5-participation-of-any-age-is-always-welcome-living-shores-aquarium-glen-nh/2026-02-09/
CATEGORIES:Family Fun
ATTACH;FMTTYPE=image/png:https://www.lakesregion.org/wp-content/uploads/2025/10/unnamed-2.png
END:VEVENT
END:VCALENDAR