





BEGIN:VCALENDAR
VERSION:2.0
PRODID:-//NH Lakes Region Tourism Association - ECPv6.15.20//NONSGML v1.0//EN
CALSCALE:GREGORIAN
METHOD:PUBLISH
X-WR-CALNAME:NH Lakes Region Tourism Association
X-ORIGINAL-URL:https://www.lakesregion.org
X-WR-CALDESC:Events for NH Lakes Region Tourism Association
REFRESH-INTERVAL;VALUE=DURATION:PT1H
X-Robots-Tag:noindex
X-PUBLISHED-TTL:PT1H
BEGIN:VTIMEZONE
TZID:America/New_York
BEGIN:DAYLIGHT
TZOFFSETFROM:-0500
TZOFFSETTO:-0400
TZNAME:EDT
DTSTART:20250309T070000
END:DAYLIGHT
BEGIN:STANDARD
TZOFFSETFROM:-0400
TZOFFSETTO:-0500
TZNAME:EST
DTSTART:20251102T060000
END:STANDARD
BEGIN:DAYLIGHT
TZOFFSETFROM:-0500
TZOFFSETTO:-0400
TZNAME:EDT
DTSTART:20260308T070000
END:DAYLIGHT
BEGIN:STANDARD
TZOFFSETFROM:-0400
TZOFFSETTO:-0500
TZNAME:EST
DTSTART:20261101T060000
END:STANDARD
BEGIN:DAYLIGHT
TZOFFSETFROM:-0500
TZOFFSETTO:-0400
TZNAME:EDT
DTSTART:20270314T070000
END:DAYLIGHT
BEGIN:STANDARD
TZOFFSETFROM:-0400
TZOFFSETTO:-0500
TZNAME:EST
DTSTART:20271107T060000
END:STANDARD
END:VTIMEZONE
BEGIN:VEVENT
DTSTART;TZID=America/New_York:20260406T080000
DTEND;TZID=America/New_York:20260406T180000
DTSTAMP:20260424T093123
CREATED:20260309T235805Z
LAST-MODIFIED:20260309T235821Z
UID:10045785-1775462400-1775498400@www.lakesregion.org
SUMMARY:Over in the Forest: a StoryWalk at Whitten Woods\, Ashland NH
DESCRIPTION:This Spring’s story is Over in the Forest by Marianne Berkes with illustrations by Jill Dubin. Landing a spot on Bank Street’s Best Book list in 2012\, this story features young animals learning to navigate their new homes. \nVisit the StoryWalk® at Whitten Woods between March 1st and April 30th. \nAfter you’re done enjoying the story\, stop by the Ashland Free Library to check out Over in the Forest and enjoy a craft based on the book! \nMarch 18th at 3:00PM there is an Over in the Forest Tea Party at the Ashland Town Library – Sponsored by the Friends of the Ashland Town Library \n\nThe StoryWalk® Project was created by Anne Ferguson of Montpelier\, VT and developed in collaboration with the VT Bicycle & Pedestrian Coalition and the Kellogg Hubbard Library.\n\nWhitten Woods Trail Heads / Highland Street Ashland NH\n\nAshland Town Library / 41 Main Street / Ashland NH\nHours:  Monday thru Thursday 1pm-5pm\nFriday 1pm-6pm\nSaturday 10am-12pm\nSunday Closed
URL:https://www.lakesregion.org/event/over-in-the-forest-a-storywalk-at-whitten-woods-ashland-nh/2026-04-06/
CATEGORIES:Family Fun,Hiking-Trails,Outdoor Adventure
ATTACH;FMTTYPE=image/webp:https://www.lakesregion.org/wp-content/uploads/2026/03/Over-in-the-Forest-StoryWalk-2-png-scaled.webp
END:VEVENT
BEGIN:VEVENT
DTSTART;TZID=America/New_York:20260406T163000
DTEND;TZID=America/New_York:20260406T190000
DTSTAMP:20260424T093123
CREATED:20260323T024303Z
LAST-MODIFIED:20260323T024303Z
UID:10046832-1775493000-1775502000@www.lakesregion.org
SUMMARY:Super Cupcake Decorating Event - Uno Pizzeria & Grill\, Tilton NH
DESCRIPTION:Super Cupcake Party!Join us at Uno’s Tilton for a kids’ cupcake decorating event inspired by classic adventure games. Frosting\, sprinkles\, mystery toppings\, and tons of fun!Kids create their own cupcake masterpieces and take them home. Limited spots—reserve early! \nBy Reservation Only: Call 603-286-4079 \nUno Pizzeria & Grill / 122 Laconia Rd. / Tilton NH
URL:https://www.lakesregion.org/event/super-cupcake-decorating-event-uno-pizzeria-grill-tilton-nh/
CATEGORIES:Arts & Culture,Family Fun
ATTACH;FMTTYPE=image/jpeg:https://www.lakesregion.org/wp-content/uploads/2026/03/646288050_1533582608770975_4375125576536244585_n.jpg
END:VEVENT
END:VCALENDAR