





BEGIN:VCALENDAR
VERSION:2.0
PRODID:-//NH Lakes Region Tourism Association - ECPv6.15.20//NONSGML v1.0//EN
CALSCALE:GREGORIAN
METHOD:PUBLISH
X-WR-CALNAME:NH Lakes Region Tourism Association
X-ORIGINAL-URL:https://www.lakesregion.org
X-WR-CALDESC:Events for NH Lakes Region Tourism Association
REFRESH-INTERVAL;VALUE=DURATION:PT1H
X-Robots-Tag:noindex
X-PUBLISHED-TTL:PT1H
BEGIN:VTIMEZONE
TZID:America/New_York
BEGIN:DAYLIGHT
TZOFFSETFROM:-0500
TZOFFSETTO:-0400
TZNAME:EDT
DTSTART:20240310T070000
END:DAYLIGHT
BEGIN:STANDARD
TZOFFSETFROM:-0400
TZOFFSETTO:-0500
TZNAME:EST
DTSTART:20241103T060000
END:STANDARD
BEGIN:DAYLIGHT
TZOFFSETFROM:-0500
TZOFFSETTO:-0400
TZNAME:EDT
DTSTART:20250309T070000
END:DAYLIGHT
BEGIN:STANDARD
TZOFFSETFROM:-0400
TZOFFSETTO:-0500
TZNAME:EST
DTSTART:20251102T060000
END:STANDARD
BEGIN:DAYLIGHT
TZOFFSETFROM:-0500
TZOFFSETTO:-0400
TZNAME:EDT
DTSTART:20260308T070000
END:DAYLIGHT
BEGIN:STANDARD
TZOFFSETFROM:-0400
TZOFFSETTO:-0500
TZNAME:EST
DTSTART:20261101T060000
END:STANDARD
END:VTIMEZONE
BEGIN:VEVENT
DTSTART;TZID=America/New_York:20250627T080000
DTEND;TZID=America/New_York:20250901T180000
DTSTAMP:20260421T083706
CREATED:20250610T161129Z
LAST-MODIFIED:20250610T165125Z
UID:10032284-1751011200-1756749600@www.lakesregion.org
SUMMARY:Story Walk - Mr. McGinty's Monarch's by Linda Vander Heyden - Curry Place\, Holderness NH
DESCRIPTION:All Ages At Curry Place\, Holderness \nStoryWalk™  – Mr. McGinty’s Monarchs by Linda Vander Heyden Stroll along the channel as you read Mr. McGinty’s Monarchs by Linda Vander Heyden posted one page at a time along the trail. Follow along to see if Mr. McGinty can come up with a plan to save the monarch caterpillars after their milkweed has been mowed down! StoryWalkTM surrounds the Holderness Town Gazebo behind the Post Office at Curry Place. Presented in partnership with Curry Place\, Holderness Library\, Squam Lakes Association\, and Holderness Recreation Department. \nStoryWalk™ is open daily from June 27-September 1 \nSponsored by: Meredith Village Savings Bank \nCost: No charge and no reservations required. \n  \n 
URL:https://www.lakesregion.org/event/story-walk-mr-mcgintys-monarchs-by-linda-vander-heyden-curry-place-holderness-nh/
CATEGORIES:Family Fun,Hiking-Trails,Outdoor Adventure
ATTACH;FMTTYPE=image/png:https://www.lakesregion.org/wp-content/uploads/2025/06/StoryWalk-2025-Instagram-Post-1.png
END:VEVENT
BEGIN:VEVENT
DTSTART;TZID=America/New_York:20250727T090000
DTEND;TZID=America/New_York:20250727T170000
DTSTAMP:20260421T083706
CREATED:20250516T160404Z
LAST-MODIFIED:20250516T160531Z
UID:10030815-1753606800-1753635600@www.lakesregion.org
SUMMARY:NH Audubon Newfound Center\, Hebron NH
DESCRIPTION:Newfound Center will be open for the 2025 summer season from May 23-September 2. Come by for a visit\, walk the trails\, rent a kayak\, or attend one of the Red Barn talks. We look forward to seeing you. \n2025 Center Hours at Paradise Point \nMonday\, Tuesday\, Friday: 9am-5pm\nSaturday & Sunday: 9am-5pm\nClosed Wednesday & Thursday\n \nGrounds and trails at Paradise Point\, Ash Cottage/Hebron Marsh\, and Bear Mountain are open from daily dawn to dusk. We encourage you to go outside and enjoy nature.\n\n\nVisit us on North Shore Road in Hebron\, NH. \nHave a question or want to register for a program? Call us at 603-224-9909 ext. 406 or email newfoundaud@nhaudubon.org. \nFree Summer Programs \nStop in for these recurring programs: \nGuided Hikes (Sat.): 5/24\, 5/31\, 6/7\, 6/28\, 7/5\, 7/26\, 8/16\, 8/23\, 8/30 \nFamily Hikes (Sun.): 5/25\, 6/8\, 6/22\, 7/6\, 7/20\, 8/3\, 8/17\, 8/31 \nNature Art (Mon.): Every Monday 5/26 – 9/1 (except June 2) \nGuided Paddles (Tue.): Every Tuesday 5/27 – 9/2 (except 6/17\, 7/12\, 8/5) \nFirst Friday Paddles: 6/6\, 7/4\, 8/1 \nFor more information go to: https://nhaudubon.org/center-and-events/newfound-center-hebron/ \n\n 
URL:https://www.lakesregion.org/event/nh-audubon-newfound-center-hebron-nh/2025-07-27/
CATEGORIES:Hiking-Trails,Outdoor Adventure
ATTACH;FMTTYPE=image/jpeg:https://www.lakesregion.org/wp-content/uploads/2025/05/Newfound-exterior-web-sq.jpg
END:VEVENT
END:VCALENDAR