





BEGIN:VCALENDAR
VERSION:2.0
PRODID:-//NH Lakes Region Tourism Association - ECPv6.15.20//NONSGML v1.0//EN
CALSCALE:GREGORIAN
METHOD:PUBLISH
X-ORIGINAL-URL:https://www.lakesregion.org
X-WR-CALDESC:Events for NH Lakes Region Tourism Association
REFRESH-INTERVAL;VALUE=DURATION:PT1H
X-Robots-Tag:noindex
X-PUBLISHED-TTL:PT1H
BEGIN:VTIMEZONE
TZID:America/New_York
BEGIN:DAYLIGHT
TZOFFSETFROM:-0500
TZOFFSETTO:-0400
TZNAME:EDT
DTSTART:20250309T070000
END:DAYLIGHT
BEGIN:STANDARD
TZOFFSETFROM:-0400
TZOFFSETTO:-0500
TZNAME:EST
DTSTART:20251102T060000
END:STANDARD
BEGIN:DAYLIGHT
TZOFFSETFROM:-0500
TZOFFSETTO:-0400
TZNAME:EDT
DTSTART:20260308T070000
END:DAYLIGHT
BEGIN:STANDARD
TZOFFSETFROM:-0400
TZOFFSETTO:-0500
TZNAME:EST
DTSTART:20261101T060000
END:STANDARD
BEGIN:DAYLIGHT
TZOFFSETFROM:-0500
TZOFFSETTO:-0400
TZNAME:EDT
DTSTART:20270314T070000
END:DAYLIGHT
BEGIN:STANDARD
TZOFFSETFROM:-0400
TZOFFSETTO:-0500
TZNAME:EST
DTSTART:20271107T060000
END:STANDARD
END:VTIMEZONE
BEGIN:VEVENT
DTSTART;TZID=America/New_York:20260330T080000
DTEND;TZID=America/New_York:20260330T160000
DTSTAMP:20260424T052436
CREATED:20260201T013245Z
LAST-MODIFIED:20260326T153430Z
UID:10044570-1774857600-1774886400@www.lakesregion.org
SUMMARY:Winter at Mount Sunapee Resort\, Newbury NH
DESCRIPTION:For tickets go to:\nmountsunapee.com\n\nHours Midweek 9am-4pm\nWeekends 8am-4pm\nHours are subject to change based on weather\, activity and operating conditions\, for questions on hours please contact us at 603.763.3500\n\nTickets\n& Passes\n\n\n\n\n\nExplore with a Snow Bike\nGlide down the slopes on snow bikes\, combining the excitement of skiing with the ease of biking. Perfect for all skill levels\, Sno-Go bikes make it simple to explore the mountain in a whole new way. Whether you’re a seasoned pro or a first-timer\, Sno-Go Tours promise fun\, laughter\, and unforgettable memories. \n\nLearn More\n\n\n\n\n\nWicked Wednesday? \n\n\nGrab discounted lift tickets for just $76\, and sneak in mid-week laps. We won’t tell your boss.  Promise.\n\n\nP.S. The deal gets even better when you purchase online in advance\, knocking the price down to just $61.\n\n\nGrab your ticket now: https://bit.ly/3jbJ2gq\n\n\n\nMount Sunapee’s closing date varies yearly but typically falls in early to mid-April\, with recent projections for the 2025-2026 winter season pointing to April 5\, 2026\, though this is a projection and subject to snow conditions\, with past seasons closing around April 7th or 9th. Always check Mount Sunapee’s official website as the date approaches for the most accurate information\, as it depends on snow\n\n\nMount Sunapee Resort / 1398 Rte. 103 / Newbury NH\n603-763-3576
URL:https://www.lakesregion.org/event/winter-at-mount-sunapee-resort-newbury-nh/2026-03-30/
CATEGORIES:Family Fun,Outdoor Adventure
ATTACH;FMTTYPE=image/avif:https://www.lakesregion.org/wp-content/uploads/2026/01/20230127_MS_Loosmann_004_Featured-Content-AND-Sliding-Cards-AND-Container-Long-Amount.avif
END:VEVENT
BEGIN:VEVENT
DTSTART;TZID=America/New_York:20260330T080000
DTEND;TZID=America/New_York:20260330T180000
DTSTAMP:20260424T052436
CREATED:20260309T235805Z
LAST-MODIFIED:20260309T235821Z
UID:10045778-1774857600-1774893600@www.lakesregion.org
SUMMARY:Over in the Forest: a StoryWalk at Whitten Woods\, Ashland NH
DESCRIPTION:This Spring’s story is Over in the Forest by Marianne Berkes with illustrations by Jill Dubin. Landing a spot on Bank Street’s Best Book list in 2012\, this story features young animals learning to navigate their new homes. \nVisit the StoryWalk® at Whitten Woods between March 1st and April 30th. \nAfter you’re done enjoying the story\, stop by the Ashland Free Library to check out Over in the Forest and enjoy a craft based on the book! \nMarch 18th at 3:00PM there is an Over in the Forest Tea Party at the Ashland Town Library – Sponsored by the Friends of the Ashland Town Library \n\nThe StoryWalk® Project was created by Anne Ferguson of Montpelier\, VT and developed in collaboration with the VT Bicycle & Pedestrian Coalition and the Kellogg Hubbard Library.\n\nWhitten Woods Trail Heads / Highland Street Ashland NH\n\nAshland Town Library / 41 Main Street / Ashland NH\nHours:  Monday thru Thursday 1pm-5pm\nFriday 1pm-6pm\nSaturday 10am-12pm\nSunday Closed
URL:https://www.lakesregion.org/event/over-in-the-forest-a-storywalk-at-whitten-woods-ashland-nh/2026-03-30/
CATEGORIES:Family Fun,Hiking-Trails,Outdoor Adventure
ATTACH;FMTTYPE=image/webp:https://www.lakesregion.org/wp-content/uploads/2026/03/Over-in-the-Forest-StoryWalk-2-png-scaled.webp
END:VEVENT
BEGIN:VEVENT
DTSTART;TZID=America/New_York:20260330T090000
DTEND;TZID=America/New_York:20260330T160000
DTSTAMP:20260424T052436
CREATED:20260108T180711Z
LAST-MODIFIED:20260326T151948Z
UID:10043291-1774861200-1774886400@www.lakesregion.org
SUMMARY:Winter at Ragged Mountain Resort - Danbury NH
DESCRIPTION:2026+27 Ragged Stash Pass is available now for $449\n\n\n\nPurchase Date\nAdult\n(Ages 6 – 79)\nChild / Super Senior\nCollege (12+ Credit Hours)\nMilitary\nJay Peak Visits\nBuddy Tickets\n\n\n\n\nTier 1: March 11 – April 19\n$449\n$49\n$329\n$329\n5\n4\n\n\nTier 2: April 20 – October 14\n$559\n$49\n$429\n$429\n5\n4\n\n\nTier 3: October 15 – End of the 26+27 Season\n$699\n$49\n$429\n$429\n5\n4\n\n\n\n\n\n\n\n\n\n\n\n\nEverything You Need to Know About the Ragged Mountain Stash Pass\nIf you’re a skier or rider looking to make the most of the mountain this season\, the Ragged Mountain Stash Pass is your ticket to unlimited winter fun. Here’s a full breakdown of what you need to know before you buy and why it might be the best investment you make this year.\n\nWhat to Have Ready When You Purchase\nBuying your Stash Pass is straightforward\, but there are a few things to have on hand. You’ll need a photo for each pass holder in your purchase\, and you’ll be asked to sign the Skier/Rider Agreement Waiver at the time of purchase. Anyone under 18 will need a parent or guardian to sign on their behalf.\nIf you’re a first-time season pass buyer\, note that a one-time $5 card fee applies to all new season purchases. Already have your RFID card from a previous season? Great\, renewing pass holders can use their original card. Just keep in mind that season passes are non-transferable and non-refundable\, and a $49 fee applies for any lost or replaced pass.\n\nWhat the Stash Pass Gets You\nThe headline perk is simple: ski or ride every single day Ragged Mountain is open during the 2026+27 Winter Season. And if you’re buying new this year\, you’ll also get to ski and ride for free for the remainder of the 2025-26 season\, so you’re essentially getting two seasons for the price of one.\n\nBuddy Tickets: A Great Perk for the Social Skier\nWant to bring your friends and family along? Stash Pass holders receive 4 Buddy Tickets. New this year\, if you purchase by April 19th\, you’ll have two options for how you use them: pay $160 for 4 passes ($40 each)\, or receive 4 promo codes for 40% off each ticket. It’s a flexible way to share the mountain with the people you love. Note that College\, Military\, and Jr. Lease program passes do not include Buddy Tickets.\n\nReciprocal Resort Perks\nThe Stash Pass goes well beyond Ragged Mountain. Pass holders enjoy access to an impressive network of regional resorts and parks\, including five complimentary tickets to Jay Peak Resort with 50% off additional tickets (blackout dates apply). You’ll also get 50% off any day at Dartmouth Skiway\, McIntyre\, Whaleback\, and Granite Gorge\, plus 50% off midweek and 25% off weekends at Pat’s Peak and Ski Butternut in Massachusetts. And when the snow melts\, the savings continue: pass holders receive 50% off midweek and 25% off weekend passes to Highland Mountain Bike Park.\n\nThe Bottom Line\nWhether you’re a local who lives for powder days or someone looking to explore the wider New England ski scene\, the Ragged Mountain Stash Pass delivers serious value. With unlimited skiing\, buddy ticket flexibility\, and regional resort perks\, it’s a pass worth getting early.\n\n\n\n\n\n\n\n\n\nMore Info\n  \nRagged Mountain Resort’s winter hours are Monday-Friday 9 AM – 4 PM\, and Weekends & Holidays 8:30 AM – 4 PM\,  Jan 17-18\, Feb 14-16\, 2026) following the weekend schedule. \n\nClosing: Projected Closing April 5\, 2026. \n\nHow to Get the Latest Info\n\nCheck Ragged Mountain’s Website: Visit their official site or social media for real-time updates on operations.\nwww.raggedmountainresort.com\nLook for Spring Operations: They often run into May; check their site for late-season deals and conditions. \n\n2025-26 Lift Ticket Rates\nDue to anticipated high demand\, especially during peak holiday periods\, lift tickets and rentals must be purchased online in advance. Lift ticket sales may be limited to ensure a quality mountain experience. \nMission Affordable season passes\, 4-Pack tickets\, Buddy Tickets purchased with the pass holder present\, resort lodging guests are guaranteed access. \n\nAll advance purchases are final and cannot be canceled\, refunded\, or transferred to another person or date\, even with a fee. We do not guarantee weather or other conditions\, open terrain\, or the number of operating lifts. \n\nbuy tickets \nRagged Mountain Resort / 620 Ragged Mountain Rd. / Danbury NH
URL:https://www.lakesregion.org/event/ragged-mountain-resort-danbury-nh-2-2-2/2026-03-30/
CATEGORIES:Outdoor Adventure
ATTACH;FMTTYPE=image/jpeg:https://www.lakesregion.org/wp-content/uploads/2026/01/610558237_18544929307063334_6785159043635998391_n.jpg
END:VEVENT
END:VCALENDAR