





BEGIN:VCALENDAR
VERSION:2.0
PRODID:-//NH Lakes Region Tourism Association - ECPv6.15.20//NONSGML v1.0//EN
CALSCALE:GREGORIAN
METHOD:PUBLISH
X-ORIGINAL-URL:https://www.lakesregion.org
X-WR-CALDESC:Events for NH Lakes Region Tourism Association
REFRESH-INTERVAL;VALUE=DURATION:PT1H
X-Robots-Tag:noindex
X-PUBLISHED-TTL:PT1H
BEGIN:VTIMEZONE
TZID:America/New_York
BEGIN:DAYLIGHT
TZOFFSETFROM:-0500
TZOFFSETTO:-0400
TZNAME:EDT
DTSTART:20250309T070000
END:DAYLIGHT
BEGIN:STANDARD
TZOFFSETFROM:-0400
TZOFFSETTO:-0500
TZNAME:EST
DTSTART:20251102T060000
END:STANDARD
BEGIN:DAYLIGHT
TZOFFSETFROM:-0500
TZOFFSETTO:-0400
TZNAME:EDT
DTSTART:20260308T070000
END:DAYLIGHT
BEGIN:STANDARD
TZOFFSETFROM:-0400
TZOFFSETTO:-0500
TZNAME:EST
DTSTART:20261101T060000
END:STANDARD
BEGIN:DAYLIGHT
TZOFFSETFROM:-0500
TZOFFSETTO:-0400
TZNAME:EDT
DTSTART:20270314T070000
END:DAYLIGHT
BEGIN:STANDARD
TZOFFSETFROM:-0400
TZOFFSETTO:-0500
TZNAME:EST
DTSTART:20271107T060000
END:STANDARD
END:VTIMEZONE
BEGIN:VEVENT
DTSTART;TZID=America/New_York:20260418T080000
DTEND;TZID=America/New_York:20260418T180000
DTSTAMP:20260421T220018
CREATED:20260309T235805Z
LAST-MODIFIED:20260309T235821Z
UID:10045797-1776499200-1776535200@www.lakesregion.org
SUMMARY:Over in the Forest: a StoryWalk at Whitten Woods\, Ashland NH
DESCRIPTION:This Spring’s story is Over in the Forest by Marianne Berkes with illustrations by Jill Dubin. Landing a spot on Bank Street’s Best Book list in 2012\, this story features young animals learning to navigate their new homes. \nVisit the StoryWalk® at Whitten Woods between March 1st and April 30th. \nAfter you’re done enjoying the story\, stop by the Ashland Free Library to check out Over in the Forest and enjoy a craft based on the book! \nMarch 18th at 3:00PM there is an Over in the Forest Tea Party at the Ashland Town Library – Sponsored by the Friends of the Ashland Town Library \n\nThe StoryWalk® Project was created by Anne Ferguson of Montpelier\, VT and developed in collaboration with the VT Bicycle & Pedestrian Coalition and the Kellogg Hubbard Library.\n\nWhitten Woods Trail Heads / Highland Street Ashland NH\n\nAshland Town Library / 41 Main Street / Ashland NH\nHours:  Monday thru Thursday 1pm-5pm\nFriday 1pm-6pm\nSaturday 10am-12pm\nSunday Closed
URL:https://www.lakesregion.org/event/over-in-the-forest-a-storywalk-at-whitten-woods-ashland-nh/2026-04-18/
CATEGORIES:Family Fun,Hiking-Trails,Outdoor Adventure
ATTACH;FMTTYPE=image/webp:https://www.lakesregion.org/wp-content/uploads/2026/03/Over-in-the-Forest-StoryWalk-2-png-scaled.webp
END:VEVENT
BEGIN:VEVENT
DTSTART;TZID=America/New_York:20260418T090000
DTEND;TZID=America/New_York:20260418T180000
DTSTAMP:20260421T220018
CREATED:20260323T011935Z
LAST-MODIFIED:20260323T013914Z
UID:10046785-1776502800-1776535200@www.lakesregion.org
SUMMARY:🐄🌱🌷Baa Baa Bash! Welcome Spring on the Farm🌷🌱🐄- Brookford Farm\, Canterbury NH
DESCRIPTION:Saturdays and Sundays in April 🚜 \n9 am – 6 pm \nFree Admission\nJoin us to welcome spring the best way we know how – with baby animals\, muddy boots and maybe even a live animal birth! \n🌷Bring the family\, bring your friends and bring your boots – it’s spring on the farm after all! \n🐖Buy feed bags and feed the animals \n🛍️Shop our NEW farm store filled with our farm-raised products and locally made items \n🧀Free samples will be served \n🥕Learn about our year round CSA \n🌱Organic soil and organic seeds available for purchase \n🥾Bring your own boots! We never know what weather April will bring so be prepared!\nNo pets please! We have lots of animals for you to visit! \nBrookford Farm / 250 West Road\nCanterbury\, NH 03224 \n603.742.4084
URL:https://www.lakesregion.org/event/%f0%9f%90%84%f0%9f%8c%b1%f0%9f%8c%b7baa-baa-bash-welcome-spring-on-the-farm%f0%9f%8c%b7%f0%9f%8c%b1%f0%9f%90%84-brookford-farm-canterbury-nh/2026-04-18/
CATEGORIES:Family Fun,Outdoor Adventure
ATTACH;FMTTYPE=image/jpeg:https://www.lakesregion.org/wp-content/uploads/2026/03/11cceaf1-4c74-42a7-bf61-fef159529841.jpg
END:VEVENT
BEGIN:VEVENT
DTSTART;TZID=America/New_York:20260418T100000
DTEND;TZID=America/New_York:20260418T150000
DTSTAMP:20260421T220018
CREATED:20250303T033001Z
LAST-MODIFIED:20260305T040839Z
UID:10027147-1776506400-1776524400@www.lakesregion.org
SUMMARY:Discover Wild NH Day 2026 - NH Fish & Game\, Concord NH
DESCRIPTION:Discover WILD New Hampshire Day is a fun way for the whole family to explore New Hampshire’s wildlife resources and outdoor traditions. With over 100 education and experiential exhibits\, Discover Wild New Hampshire day is fun for the entire family. This free event celebrates our partners in conservation. See live animals\, big fish\, and trained falcons. Try your hand at archery\, casting\, and fly tying. Test your marksmanship at the air-rifle range\, watch retriever dogs in action\, and get creative with hands-on wild craft activities. Meet a Fish and Game biologist\, talk with a conservation officer\, or explore the Discovery Room. This event will connect you to life outdoors in the Granite State.\nHungry for more\, check out the food truck alley 10:00 a.m. – 3:00 p.m. — you’ll find something for every taste! The event opens April 18\, 2026 at 10:00. Please no early birds. This is a free event for the public.\nDiscover WILD New Hampshire Day is hosted by the New Hampshire Fish and Game Department and presented by the Wildlife Heritage Foundation of New Hampshire\, Fish and Game’s nonprofit partner (Wildlife Heritage Foundation of New Hampshire Website)\, with support from media sponsor Manchester Media Group.\n\n\nNH Fish & Game / 11 Hazen Dr. /  Concord NH
URL:https://www.lakesregion.org/event/discover-wild-nh-day-2025-nh-fish-game-concord-nh/
CATEGORIES:Family Fun,Outdoor Adventure
ATTACH;FMTTYPE=image/jpeg:https://www.lakesregion.org/wp-content/uploads/2025/03/634172584_1359363269554122_6069728955417049000_n.jpg
END:VEVENT
BEGIN:VEVENT
DTSTART;TZID=America/New_York:20260418T103000
DTEND;TZID=America/New_York:20260418T160000
DTSTAMP:20260421T220018
CREATED:20260417T201442Z
LAST-MODIFIED:20260417T202144Z
UID:10047299-1776508200-1776528000@www.lakesregion.org
SUMMARY:Jeanne Gerulskis Science Playground - McAuliffe-Shepard Discovery Center\, Concord NH
DESCRIPTION:Jeanne Gerulskis Science Playground 2026 opening day is Saturday\, April 11\, 2026\n\nOpen 10:30 am – 4pm on Days the Science Center is Open.\nHappy Spring Break MA/NH! The Discovery Center is open daily until May 3rd\, 2026!\n\nAfter May 3 Hours:\nWednesday-Sunday 10:30am-4pm\n\n\n\nPlan your visit here: www.starhop.com/plan-your-visit \n\n\n\n\nLearn more about the Science Playground here: www.starhop.com/jeanne-gerulskis-science-playground\n\nMcAuliffe-Shepard Discovery Center / 2 Institute Dr. /  Concord NH\n603-271-7827
URL:https://www.lakesregion.org/event/jeanne-gerulskis-science-playground-mcauliffe-shepard-discovery-center-concord-nh/2026-04-18/
CATEGORIES:Family Fun,Outdoor Adventure
ATTACH;FMTTYPE=image/png:https://www.lakesregion.org/wp-content/uploads/2026/04/unnamed-2026-04-17T155845.477.png
END:VEVENT
END:VCALENDAR