





BEGIN:VCALENDAR
VERSION:2.0
PRODID:-//NH Lakes Region Tourism Association - ECPv6.15.20//NONSGML v1.0//EN
CALSCALE:GREGORIAN
METHOD:PUBLISH
X-WR-CALNAME:NH Lakes Region Tourism Association
X-ORIGINAL-URL:https://www.lakesregion.org
X-WR-CALDESC:Events for NH Lakes Region Tourism Association
REFRESH-INTERVAL;VALUE=DURATION:PT1H
X-Robots-Tag:noindex
X-PUBLISHED-TTL:PT1H
BEGIN:VTIMEZONE
TZID:America/New_York
BEGIN:DAYLIGHT
TZOFFSETFROM:-0500
TZOFFSETTO:-0400
TZNAME:EDT
DTSTART:20250309T070000
END:DAYLIGHT
BEGIN:STANDARD
TZOFFSETFROM:-0400
TZOFFSETTO:-0500
TZNAME:EST
DTSTART:20251102T060000
END:STANDARD
BEGIN:DAYLIGHT
TZOFFSETFROM:-0500
TZOFFSETTO:-0400
TZNAME:EDT
DTSTART:20260308T070000
END:DAYLIGHT
BEGIN:STANDARD
TZOFFSETFROM:-0400
TZOFFSETTO:-0500
TZNAME:EST
DTSTART:20261101T060000
END:STANDARD
BEGIN:DAYLIGHT
TZOFFSETFROM:-0500
TZOFFSETTO:-0400
TZNAME:EDT
DTSTART:20270314T070000
END:DAYLIGHT
BEGIN:STANDARD
TZOFFSETFROM:-0400
TZOFFSETTO:-0500
TZNAME:EST
DTSTART:20271107T060000
END:STANDARD
END:VTIMEZONE
BEGIN:VEVENT
DTSTART;TZID=America/New_York:20260502T080000
DTEND;TZID=America/New_York:20261101T200000
DTSTAMP:20260421T233252
CREATED:20260406T204118Z
LAST-MODIFIED:20260406T204118Z
UID:10047193-1777708800-1793563200@www.lakesregion.org
SUMMARY:Skydive New England Opening Day for the Season and Weekday Special\, Lebanon ME
DESCRIPTION:Opening Day for the Season\, Saturday\, May 2\, 2026\n\nWeekday special M-F for $259 (reg price $289) all season long!\n\n\n\n\nMonday\n\n\n8:00 AM – 5:00 PM\n\n\n\n\nTuesday\n\n\n8:00 AM – 7:00 PM\n\n\n\n\nWednesday\n\n\n8:00 AM – 7:00 PM\n\n\n\n\nThursday\n\n\n8:00 AM – 7:00 PM\n\n\n\n\nFriday\n\n\n8:00 AM – 7:00 PM\n\n\n\n\nSaturday\n\n\n8:00 AM – 8:00 PM\n\n\n\n\nSunday\n\n\n8:00 AM – 8:00 PM\n\n\n\n\nSkydive New England / 40 Skydive Ln. / Lebanon\, ME
URL:https://www.lakesregion.org/event/skydive-new-england-opening-day-for-the-season-and-weekday-special-lebanon-me/
CATEGORIES:Outdoor Adventure
ATTACH;FMTTYPE=image/png:https://www.lakesregion.org/wp-content/uploads/2026/04/Opening-Day-1.png
END:VEVENT
BEGIN:VEVENT
DTSTART;TZID=America/New_York:20260523T080000
DTEND;TZID=America/New_York:20260525T183000
DTSTAMP:20260421T233252
CREATED:20260301T032558Z
LAST-MODIFIED:20260301T032558Z
UID:10045360-1779523200-1779733800@www.lakesregion.org
SUMMARY:Adult Ayracademy - Highland Mountain Bike Park\, Northfield NH
DESCRIPTION:ADULT AYRACADEMY SPRING SESSIONS ARE HERE\nProgression feels better when you are not riding alone.\n\n\nJoin the Adult Ayr Academy at Highland Mountain Bike Park this spring and ride with purpose alongside a crew that is serious about getting better.\n\n\nWhether you are dialing in technique\, breaking through mental blocks\, or sharpening race craft\, this is your chance to start the season strong.\n\n\nSpring 2026 Dates\n\nMay 1st – 3rd \nRACING FOCUSED\nFriday\, Saturday\, Sunday \nPro Coaches: Luca Cometti & Andy Driscoll \nMay 23rd & 24th\nSaturday & Sunday \nCoaches: Kevin Owens & Ben Tufford \nMay 29th – 31st \nFriday\, Saturday\, Sunday \nCoaches: Kevin Owens & Ben Tufford \nJune 5th – 7th \nFriday\, Saturday\, Sunday \nCoaches: Kevin Owens & Ben Tufford \nJune 13th & 14th – WOMEN’S CAMP\nSaturday & Sunday \nCoaches: Alex Reiss & Robin Dunn \n\n\n\nhttp://highlandmountain.com/adultayr\n\n\n\n\n\n\n\n\n\n\n\n\n\n\nStay On-Site During Adult Ayr Academy \nMake the most of your Adult Ayr experience by staying right here on the mountain. Our primitive camping option is perfect for those who want to keep the weekend simple\, affordable\, and fully immersed in the Highland community. \nPrimitive camping is tent and car-camping friendly. Flat\, grassy spots surrounded by the sounds of the mountain. No hookups available. No frills just the essentials. Access to Drinking water\, Showers\, & Bathrooms: Primitive\, but not too primitive.\n\n\n\n\n\n\n\n\n\n\n\n\n\n\n\nSpring sessions are your chance to start up the season with purpose\, whether you’re fine-tuning skills you’ve been building\, or looking to break through mental blocks on features that have been holding you back. \n\nDial in your skills: Refine the techniques you’ve been working on all season with targeted coaching.\n\n\nBreak mental barriers: Gain the confidence to ride features that have been blocking your progression.\n\n\nRide with purpose: Focused\, small-group instruction designed to fast-track your growth.\n\n\nBuild your crew: Connect with like-minded riders who share your passion for progression.\n\n\nExpert coaching: Learn from Highland’s professional instructors who know how to take your riding to the next level.
URL:https://www.lakesregion.org/event/adult-ayracademy-highland-mountain-bike-park-northfield-nh/2026-05-23/
CATEGORIES:Outdoor Adventure
ATTACH;FMTTYPE=image/jpeg:https://www.lakesregion.org/wp-content/uploads/2026/02/641476605_1378714860965289_7304270810927734676_n.jpg
END:VEVENT
BEGIN:VEVENT
DTSTART;TZID=America/New_York:20260524T093000
DTEND;TZID=America/New_York:20260524T170000
DTSTAMP:20260421T233252
CREATED:20260317T024218Z
LAST-MODIFIED:20260317T024352Z
UID:10046425-1779615000-1779642000@www.lakesregion.org
SUMMARY:Opening Day for the Season - Squam Lakes Natural Science Center
DESCRIPTION:Friday\, May 1st\, 2026 – Celebrating 60 Years!\nOpening Day at the Squam Lakes Natural Science Center!\nJoin us for our first day of the 2026 season at the Squam Lakes Natural Science Center! Now thru November 1st. \n(last trail admission at 3:30 p.m.). The live animal exhibit trail is the main attraction\, and the center occasionally offers extended weekend hours in November. \nwww.nhnature.org   603-968-7194 \n \nSquam Lakes Natural Science Center / 23 Science Center Rd. / Holderness NH
URL:https://www.lakesregion.org/event/opening-day-for-the-season-squam-lakes-natural-science-center/2026-05-24/
CATEGORIES:Family Fun,Outdoor Adventure
ATTACH;FMTTYPE=image/png:https://www.lakesregion.org/wp-content/uploads/2026/03/Screenshot-2026-03-16-at-22-30-56-FW-SLNCS-Guided-Discoveries-April-Break-Camp-Flyer-jim.narkiewicz@gmail.com-Gmail.png
END:VEVENT
END:VCALENDAR