





BEGIN:VCALENDAR
VERSION:2.0
PRODID:-//NH Lakes Region Tourism Association - ECPv6.15.20//NONSGML v1.0//EN
CALSCALE:GREGORIAN
METHOD:PUBLISH
X-WR-CALNAME:NH Lakes Region Tourism Association
X-ORIGINAL-URL:https://www.lakesregion.org
X-WR-CALDESC:Events for NH Lakes Region Tourism Association
REFRESH-INTERVAL;VALUE=DURATION:PT1H
X-Robots-Tag:noindex
X-PUBLISHED-TTL:PT1H
BEGIN:VTIMEZONE
TZID:America/New_York
BEGIN:DAYLIGHT
TZOFFSETFROM:-0500
TZOFFSETTO:-0400
TZNAME:EDT
DTSTART:20250309T070000
END:DAYLIGHT
BEGIN:STANDARD
TZOFFSETFROM:-0400
TZOFFSETTO:-0500
TZNAME:EST
DTSTART:20251102T060000
END:STANDARD
BEGIN:DAYLIGHT
TZOFFSETFROM:-0500
TZOFFSETTO:-0400
TZNAME:EDT
DTSTART:20260308T070000
END:DAYLIGHT
BEGIN:STANDARD
TZOFFSETFROM:-0400
TZOFFSETTO:-0500
TZNAME:EST
DTSTART:20261101T060000
END:STANDARD
BEGIN:DAYLIGHT
TZOFFSETFROM:-0500
TZOFFSETTO:-0400
TZNAME:EDT
DTSTART:20270314T070000
END:DAYLIGHT
BEGIN:STANDARD
TZOFFSETFROM:-0400
TZOFFSETTO:-0500
TZNAME:EST
DTSTART:20271107T060000
END:STANDARD
END:VTIMEZONE
BEGIN:VEVENT
DTSTART;TZID=America/New_York:20260425T103000
DTEND;TZID=America/New_York:20260425T130000
DTSTAMP:20260419T132053
CREATED:20260128T025617Z
LAST-MODIFIED:20260128T025617Z
UID:10044232-1777113000-1777122000@www.lakesregion.org
SUMMARY:Winter Hikes - Castle in the Clouds\, Moultonborough NH
DESCRIPTION:Join us on winter hikes at the Castle in the Clouds Preservation Area and learn about the history of the property and the nature you will encounter along the way. For more information about each of the hike please visit our website.\nHikers should be prepared with appropriate clothing layers for winter weather conditions including warm winter boots\, microspikes or traction cleats or snowshoes\, and hiking poles for stability. Bring water\, food\, and snacks for yourself.\nWould you like to join us for Winter Lunch served in the Carriage House Restaurant? Seatings are at 11:30am\, 12:30pm and 1:30pm by reservation only. Please note that reservations are required\, and walk-ins can not be accommodated on the day of this event. You can make a reservation here: https://www.castleintheclouds.org/…/category/winter-lunch/\n\nUPCOMING DATES\n\nRegister  Sat Feb 14\, 2026 – Mount Roberts First Viewpoint (11:00am-1:00pm)* \nRegister  Sat Feb 28\, 2026 – Settlement Loop Walk \nRegister  Sat Mar 14\, 2026 – Bridle Path and Turtleback Mountain Trail \nRegister  Sat Mar 28\, 2026 – Mount Roberts First Viewpoint (10:30am-1:00PM)* \nRegister  Sat Apr 11\, 2026 – Bridle Path – Faraway Connector – and the Settlement Trail \nRegister  Sat Apr 25\, 2026 – Brook Walk via Brook Trail (10:30am-1:00pm)* \n\n\n\n\n\n February\n11:00 AM-1:00 PM*\nMarch and April\n10:30 am- 1:00 pm*\n* Please note end time is an estimate. Actual end time will vary based on the group.\nFree\nPre-registration required\nRegistration closes at midnight the day before\nRefund Policy: All ticket sales are final; no refunds\, transfers to other dates\, or exchanges. See our Weather\, Cancellation\, & Refund Policy for additional information.\n\n\n\n\nPlease meet for this hike at the picnic pavilions by Shannon Pond. Hiker parking is available at the top of Ossipee Park Road just past Maple Lodge\, and also in the unpaved areas across from the pond and Café in the Clouds. \nTo access the hiker parking\, please use our Ossipee Park Road entrance\, and use the following GPS address: \n586 Ossipee Park Rd.\nMoultonborough\, NH 03254
URL:https://www.lakesregion.org/event/winter-hikes-castle-in-the-clouds-moultonborough-nh/2026-04-25/
CATEGORIES:Outdoor Adventure
ATTACH;FMTTYPE=image/jpeg:https://www.lakesregion.org/wp-content/uploads/2026/01/611613245_1358637496307459_4892855326390429090_n.jpg
END:VEVENT
END:VCALENDAR