





BEGIN:VCALENDAR
VERSION:2.0
PRODID:-//NH Lakes Region Tourism Association - ECPv6.15.20//NONSGML v1.0//EN
CALSCALE:GREGORIAN
METHOD:PUBLISH
X-WR-CALNAME:NH Lakes Region Tourism Association
X-ORIGINAL-URL:https://www.lakesregion.org
X-WR-CALDESC:Events for NH Lakes Region Tourism Association
REFRESH-INTERVAL;VALUE=DURATION:PT1H
X-Robots-Tag:noindex
X-PUBLISHED-TTL:PT1H
BEGIN:VTIMEZONE
TZID:America/New_York
BEGIN:DAYLIGHT
TZOFFSETFROM:-0500
TZOFFSETTO:-0400
TZNAME:EDT
DTSTART:20250309T070000
END:DAYLIGHT
BEGIN:STANDARD
TZOFFSETFROM:-0400
TZOFFSETTO:-0500
TZNAME:EST
DTSTART:20251102T060000
END:STANDARD
BEGIN:DAYLIGHT
TZOFFSETFROM:-0500
TZOFFSETTO:-0400
TZNAME:EDT
DTSTART:20260308T070000
END:DAYLIGHT
BEGIN:STANDARD
TZOFFSETFROM:-0400
TZOFFSETTO:-0500
TZNAME:EST
DTSTART:20261101T060000
END:STANDARD
BEGIN:DAYLIGHT
TZOFFSETFROM:-0500
TZOFFSETTO:-0400
TZNAME:EDT
DTSTART:20270314T070000
END:DAYLIGHT
BEGIN:STANDARD
TZOFFSETFROM:-0400
TZOFFSETTO:-0500
TZNAME:EST
DTSTART:20271107T060000
END:STANDARD
END:VTIMEZONE
BEGIN:VEVENT
DTSTART;TZID=America/New_York:20260515T100000
DTEND;TZID=America/New_York:20260515T200000
DTSTAMP:20260423T132751
CREATED:20250608T201842Z
LAST-MODIFIED:20260408T174511Z
UID:10032114-1778839200-1778875200@www.lakesregion.org
SUMMARY:Northeast Coffee Festival 2026\, Concord NH
DESCRIPTION:Festival Dates: May 15-16\, 2026 \n$99(+fees) per person \nCan’t wait to see you in May! \nCLICK TO PURCHASE\n\n\n\n\n\n\n*Looking to purchase in person? \nClick HERE to view BNH Stage Box Office Hours\n\n\n\n\n\n\n\n\n\n\n\n\n\n\n\n\n\n\n\n\n\n\n\n\n \n\n\n\n\n\n\n\n\n\n\n\n\n\n\n\n\n\n\n\nA Festival Pass Is Required For: \nAccess to two full days of 50+ hands-on workshops\, cuppings\, panels and small group discussions led by industry pros \nFriday Night Opening Panel \nSaturday Afternoon Latte Art Throwdown \nSaturday Night NECF 5th Anniversary Party \nAttendee tote filled with swag\n\n\n\n\n\n\nCLICK TO PURCHASE\n\n\n\n\n\n\n GENERAL INFO \n\n\n\n\n\n\n FESTIVAL SCHEDULE \n\n\n\n\n\n\n GET INVOLVED \n\n\n\n\n\n\n FOLLOW US \n\n\n\n \nSENSORY TRACK \nAs part of the Coffee Educational Programming at the Northeast Coffee Festival\, we’re excited to introduce the Sensory Track led by Anne Mercer from Victus Coffee.⁠\n⁠\nThis hands-on series is designed to deepen the way you taste\, evaluate\, and experience coffee. Across two days\, you’ll learn to brew better at home\, compare specialty and non-specialty coffees side by side\, identify common defects\, explore acidity and body in depth\, test your palate with blind sensory challenges\, and even trace what’s happening inside your espresso machine.⁠\n⁠\nFrom café owners and baristas to passionate home brewers\, each workshop builds practical sensory skills you can apply immediately- helping you taste with more clarity\, confidence\, and intention. \n  \n \n \nEastern Propane & Oil Live Music Series is BACK! \nThanks to our Platinum Partner\, Eastern Propane & Oil\, we have partnered once again with the NH Music Collective to curate an amazing lineup of musicians that’ll be performing throughout the duration of the weekend. This will be located on South Main Street between the BNH Stage and Hotel Concord and is open to the public. This is the perfect option when you need to take a breather from workshops and enjoy the vendors at the Community Market – bring down the family and enjoy the music! \nFriday\, May 15th\n12PM | Adrienne Mack-Davis Band\n3PM | DJ Ron See\n5PM | Primo Cubano \nSaturday\, May 16th\n11AM | DJ Ron See\n1PM | Supernothing\n5PM | Sunburned Sharks
URL:https://www.lakesregion.org/event/new-england-coffee-festival-2026-concord-nh/2026-05-15/
CATEGORIES:Fairs & Festivals
ATTACH;FMTTYPE=image/jpeg:https://www.lakesregion.org/wp-content/uploads/2025/06/499380191_18014101856720049_5694709536874969174_n.jpg
END:VEVENT
BEGIN:VEVENT
DTSTART;TZID=America/New_York:20260516T080000
DTEND;TZID=America/New_York:20260516T200000
DTSTAMP:20260423T132751
CREATED:20250608T201842Z
LAST-MODIFIED:20260408T174511Z
UID:10047245-1778918400-1778961600@www.lakesregion.org
SUMMARY:Northeast Coffee Festival 2026\, Concord NH
DESCRIPTION:Festival Dates: May 15-16\, 2026 \n$99(+fees) per person \nCan’t wait to see you in May! \nCLICK TO PURCHASE\n\n\n\n\n\n\n*Looking to purchase in person? \nClick HERE to view BNH Stage Box Office Hours\n\n\n\n\n\n\n\n\n\n\n\n\n\n\n\n\n\n\n\n\n\n\n\n\n \n\n\n\n\n\n\n\n\n\n\n\n\n\n\n\n\n\n\n\nA Festival Pass Is Required For: \nAccess to two full days of 50+ hands-on workshops\, cuppings\, panels and small group discussions led by industry pros \nFriday Night Opening Panel \nSaturday Afternoon Latte Art Throwdown \nSaturday Night NECF 5th Anniversary Party \nAttendee tote filled with swag\n\n\n\n\n\n\nCLICK TO PURCHASE\n\n\n\n\n\n\n GENERAL INFO \n\n\n\n\n\n\n FESTIVAL SCHEDULE \n\n\n\n\n\n\n GET INVOLVED \n\n\n\n\n\n\n FOLLOW US \n\n\n\n \nSENSORY TRACK \nAs part of the Coffee Educational Programming at the Northeast Coffee Festival\, we’re excited to introduce the Sensory Track led by Anne Mercer from Victus Coffee.⁠\n⁠\nThis hands-on series is designed to deepen the way you taste\, evaluate\, and experience coffee. Across two days\, you’ll learn to brew better at home\, compare specialty and non-specialty coffees side by side\, identify common defects\, explore acidity and body in depth\, test your palate with blind sensory challenges\, and even trace what’s happening inside your espresso machine.⁠\n⁠\nFrom café owners and baristas to passionate home brewers\, each workshop builds practical sensory skills you can apply immediately- helping you taste with more clarity\, confidence\, and intention. \n  \n \n \nEastern Propane & Oil Live Music Series is BACK! \nThanks to our Platinum Partner\, Eastern Propane & Oil\, we have partnered once again with the NH Music Collective to curate an amazing lineup of musicians that’ll be performing throughout the duration of the weekend. This will be located on South Main Street between the BNH Stage and Hotel Concord and is open to the public. This is the perfect option when you need to take a breather from workshops and enjoy the vendors at the Community Market – bring down the family and enjoy the music! \nFriday\, May 15th\n12PM | Adrienne Mack-Davis Band\n3PM | DJ Ron See\n5PM | Primo Cubano \nSaturday\, May 16th\n11AM | DJ Ron See\n1PM | Supernothing\n5PM | Sunburned Sharks
URL:https://www.lakesregion.org/event/new-england-coffee-festival-2026-concord-nh/2026-05-16/
CATEGORIES:Fairs & Festivals
ATTACH;FMTTYPE=image/jpeg:https://www.lakesregion.org/wp-content/uploads/2025/06/499380191_18014101856720049_5694709536874969174_n.jpg
END:VEVENT
END:VCALENDAR