





BEGIN:VCALENDAR
VERSION:2.0
PRODID:-//NH Lakes Region Tourism Association - ECPv6.15.20//NONSGML v1.0//EN
CALSCALE:GREGORIAN
METHOD:PUBLISH
X-WR-CALNAME:NH Lakes Region Tourism Association
X-ORIGINAL-URL:https://www.lakesregion.org
X-WR-CALDESC:Events for NH Lakes Region Tourism Association
REFRESH-INTERVAL;VALUE=DURATION:PT1H
X-Robots-Tag:noindex
X-PUBLISHED-TTL:PT1H
BEGIN:VTIMEZONE
TZID:America/New_York
BEGIN:DAYLIGHT
TZOFFSETFROM:-0500
TZOFFSETTO:-0400
TZNAME:EDT
DTSTART:20250309T070000
END:DAYLIGHT
BEGIN:STANDARD
TZOFFSETFROM:-0400
TZOFFSETTO:-0500
TZNAME:EST
DTSTART:20251102T060000
END:STANDARD
BEGIN:DAYLIGHT
TZOFFSETFROM:-0500
TZOFFSETTO:-0400
TZNAME:EDT
DTSTART:20260308T070000
END:DAYLIGHT
BEGIN:STANDARD
TZOFFSETFROM:-0400
TZOFFSETTO:-0500
TZNAME:EST
DTSTART:20261101T060000
END:STANDARD
BEGIN:DAYLIGHT
TZOFFSETFROM:-0500
TZOFFSETTO:-0400
TZNAME:EDT
DTSTART:20270314T070000
END:DAYLIGHT
BEGIN:STANDARD
TZOFFSETFROM:-0400
TZOFFSETTO:-0500
TZNAME:EST
DTSTART:20271107T060000
END:STANDARD
END:VTIMEZONE
BEGIN:VEVENT
DTSTART;TZID=America/New_York:20260424T103000
DTEND;TZID=America/New_York:20260424T160000
DTSTAMP:20260424T080731
CREATED:20260417T201442Z
LAST-MODIFIED:20260417T202144Z
UID:10047305-1777026600-1777046400@www.lakesregion.org
SUMMARY:Jeanne Gerulskis Science Playground - McAuliffe-Shepard Discovery Center\, Concord NH
DESCRIPTION:Jeanne Gerulskis Science Playground 2026 opening day is Saturday\, April 11\, 2026\n\nOpen 10:30 am – 4pm on Days the Science Center is Open.\nHappy Spring Break MA/NH! The Discovery Center is open daily until May 3rd\, 2026!\n\nAfter May 3 Hours:\nWednesday-Sunday 10:30am-4pm\n\n\n\nPlan your visit here: www.starhop.com/plan-your-visit \n\n\n\n\nLearn more about the Science Playground here: www.starhop.com/jeanne-gerulskis-science-playground\n\nMcAuliffe-Shepard Discovery Center / 2 Institute Dr. /  Concord NH\n603-271-7827
URL:https://www.lakesregion.org/event/jeanne-gerulskis-science-playground-mcauliffe-shepard-discovery-center-concord-nh/2026-04-24/
CATEGORIES:Family Fun,Outdoor Adventure
ATTACH;FMTTYPE=image/png:https://www.lakesregion.org/wp-content/uploads/2026/04/unnamed-2026-04-17T155845.477.png
END:VEVENT
BEGIN:VEVENT
DTSTART;TZID=America/New_York:20260425T103000
DTEND;TZID=America/New_York:20260425T160000
DTSTAMP:20260424T080731
CREATED:20260417T201442Z
LAST-MODIFIED:20260417T202144Z
UID:10047306-1777113000-1777132800@www.lakesregion.org
SUMMARY:Jeanne Gerulskis Science Playground - McAuliffe-Shepard Discovery Center\, Concord NH
DESCRIPTION:Jeanne Gerulskis Science Playground 2026 opening day is Saturday\, April 11\, 2026\n\nOpen 10:30 am – 4pm on Days the Science Center is Open.\nHappy Spring Break MA/NH! The Discovery Center is open daily until May 3rd\, 2026!\n\nAfter May 3 Hours:\nWednesday-Sunday 10:30am-4pm\n\n\n\nPlan your visit here: www.starhop.com/plan-your-visit \n\n\n\n\nLearn more about the Science Playground here: www.starhop.com/jeanne-gerulskis-science-playground\n\nMcAuliffe-Shepard Discovery Center / 2 Institute Dr. /  Concord NH\n603-271-7827
URL:https://www.lakesregion.org/event/jeanne-gerulskis-science-playground-mcauliffe-shepard-discovery-center-concord-nh/2026-04-25/
CATEGORIES:Family Fun,Outdoor Adventure
ATTACH;FMTTYPE=image/png:https://www.lakesregion.org/wp-content/uploads/2026/04/unnamed-2026-04-17T155845.477.png
END:VEVENT
BEGIN:VEVENT
DTSTART;TZID=America/New_York:20260426T103000
DTEND;TZID=America/New_York:20260426T160000
DTSTAMP:20260424T080731
CREATED:20260417T201442Z
LAST-MODIFIED:20260417T202144Z
UID:10047307-1777199400-1777219200@www.lakesregion.org
SUMMARY:Jeanne Gerulskis Science Playground - McAuliffe-Shepard Discovery Center\, Concord NH
DESCRIPTION:Jeanne Gerulskis Science Playground 2026 opening day is Saturday\, April 11\, 2026\n\nOpen 10:30 am – 4pm on Days the Science Center is Open.\nHappy Spring Break MA/NH! The Discovery Center is open daily until May 3rd\, 2026!\n\nAfter May 3 Hours:\nWednesday-Sunday 10:30am-4pm\n\n\n\nPlan your visit here: www.starhop.com/plan-your-visit \n\n\n\n\nLearn more about the Science Playground here: www.starhop.com/jeanne-gerulskis-science-playground\n\nMcAuliffe-Shepard Discovery Center / 2 Institute Dr. /  Concord NH\n603-271-7827
URL:https://www.lakesregion.org/event/jeanne-gerulskis-science-playground-mcauliffe-shepard-discovery-center-concord-nh/2026-04-26/
CATEGORIES:Family Fun,Outdoor Adventure
ATTACH;FMTTYPE=image/png:https://www.lakesregion.org/wp-content/uploads/2026/04/unnamed-2026-04-17T155845.477.png
END:VEVENT
BEGIN:VEVENT
DTSTART;TZID=America/New_York:20260427T103000
DTEND;TZID=America/New_York:20260427T160000
DTSTAMP:20260424T080731
CREATED:20260417T201442Z
LAST-MODIFIED:20260417T202144Z
UID:10047308-1777285800-1777305600@www.lakesregion.org
SUMMARY:Jeanne Gerulskis Science Playground - McAuliffe-Shepard Discovery Center\, Concord NH
DESCRIPTION:Jeanne Gerulskis Science Playground 2026 opening day is Saturday\, April 11\, 2026\n\nOpen 10:30 am – 4pm on Days the Science Center is Open.\nHappy Spring Break MA/NH! The Discovery Center is open daily until May 3rd\, 2026!\n\nAfter May 3 Hours:\nWednesday-Sunday 10:30am-4pm\n\n\n\nPlan your visit here: www.starhop.com/plan-your-visit \n\n\n\n\nLearn more about the Science Playground here: www.starhop.com/jeanne-gerulskis-science-playground\n\nMcAuliffe-Shepard Discovery Center / 2 Institute Dr. /  Concord NH\n603-271-7827
URL:https://www.lakesregion.org/event/jeanne-gerulskis-science-playground-mcauliffe-shepard-discovery-center-concord-nh/2026-04-27/
CATEGORIES:Family Fun,Outdoor Adventure
ATTACH;FMTTYPE=image/png:https://www.lakesregion.org/wp-content/uploads/2026/04/unnamed-2026-04-17T155845.477.png
END:VEVENT
BEGIN:VEVENT
DTSTART;TZID=America/New_York:20260428T103000
DTEND;TZID=America/New_York:20260428T160000
DTSTAMP:20260424T080731
CREATED:20260417T201442Z
LAST-MODIFIED:20260417T202144Z
UID:10047309-1777372200-1777392000@www.lakesregion.org
SUMMARY:Jeanne Gerulskis Science Playground - McAuliffe-Shepard Discovery Center\, Concord NH
DESCRIPTION:Jeanne Gerulskis Science Playground 2026 opening day is Saturday\, April 11\, 2026\n\nOpen 10:30 am – 4pm on Days the Science Center is Open.\nHappy Spring Break MA/NH! The Discovery Center is open daily until May 3rd\, 2026!\n\nAfter May 3 Hours:\nWednesday-Sunday 10:30am-4pm\n\n\n\nPlan your visit here: www.starhop.com/plan-your-visit \n\n\n\n\nLearn more about the Science Playground here: www.starhop.com/jeanne-gerulskis-science-playground\n\nMcAuliffe-Shepard Discovery Center / 2 Institute Dr. /  Concord NH\n603-271-7827
URL:https://www.lakesregion.org/event/jeanne-gerulskis-science-playground-mcauliffe-shepard-discovery-center-concord-nh/2026-04-28/
CATEGORIES:Family Fun,Outdoor Adventure
ATTACH;FMTTYPE=image/png:https://www.lakesregion.org/wp-content/uploads/2026/04/unnamed-2026-04-17T155845.477.png
END:VEVENT
BEGIN:VEVENT
DTSTART;TZID=America/New_York:20260429T103000
DTEND;TZID=America/New_York:20260429T160000
DTSTAMP:20260424T080731
CREATED:20260417T201442Z
LAST-MODIFIED:20260417T202144Z
UID:10047310-1777458600-1777478400@www.lakesregion.org
SUMMARY:Jeanne Gerulskis Science Playground - McAuliffe-Shepard Discovery Center\, Concord NH
DESCRIPTION:Jeanne Gerulskis Science Playground 2026 opening day is Saturday\, April 11\, 2026\n\nOpen 10:30 am – 4pm on Days the Science Center is Open.\nHappy Spring Break MA/NH! The Discovery Center is open daily until May 3rd\, 2026!\n\nAfter May 3 Hours:\nWednesday-Sunday 10:30am-4pm\n\n\n\nPlan your visit here: www.starhop.com/plan-your-visit \n\n\n\n\nLearn more about the Science Playground here: www.starhop.com/jeanne-gerulskis-science-playground\n\nMcAuliffe-Shepard Discovery Center / 2 Institute Dr. /  Concord NH\n603-271-7827
URL:https://www.lakesregion.org/event/jeanne-gerulskis-science-playground-mcauliffe-shepard-discovery-center-concord-nh/2026-04-29/
CATEGORIES:Family Fun,Outdoor Adventure
ATTACH;FMTTYPE=image/png:https://www.lakesregion.org/wp-content/uploads/2026/04/unnamed-2026-04-17T155845.477.png
END:VEVENT
BEGIN:VEVENT
DTSTART;TZID=America/New_York:20260430T103000
DTEND;TZID=America/New_York:20260430T160000
DTSTAMP:20260424T080732
CREATED:20260417T201442Z
LAST-MODIFIED:20260417T202144Z
UID:10047311-1777545000-1777564800@www.lakesregion.org
SUMMARY:Jeanne Gerulskis Science Playground - McAuliffe-Shepard Discovery Center\, Concord NH
DESCRIPTION:Jeanne Gerulskis Science Playground 2026 opening day is Saturday\, April 11\, 2026\n\nOpen 10:30 am – 4pm on Days the Science Center is Open.\nHappy Spring Break MA/NH! The Discovery Center is open daily until May 3rd\, 2026!\n\nAfter May 3 Hours:\nWednesday-Sunday 10:30am-4pm\n\n\n\nPlan your visit here: www.starhop.com/plan-your-visit \n\n\n\n\nLearn more about the Science Playground here: www.starhop.com/jeanne-gerulskis-science-playground\n\nMcAuliffe-Shepard Discovery Center / 2 Institute Dr. /  Concord NH\n603-271-7827
URL:https://www.lakesregion.org/event/jeanne-gerulskis-science-playground-mcauliffe-shepard-discovery-center-concord-nh/2026-04-30/
CATEGORIES:Family Fun,Outdoor Adventure
ATTACH;FMTTYPE=image/png:https://www.lakesregion.org/wp-content/uploads/2026/04/unnamed-2026-04-17T155845.477.png
END:VEVENT
BEGIN:VEVENT
DTSTART;TZID=America/New_York:20260501T103000
DTEND;TZID=America/New_York:20260501T160000
DTSTAMP:20260424T080732
CREATED:20260417T201442Z
LAST-MODIFIED:20260417T202144Z
UID:10047312-1777631400-1777651200@www.lakesregion.org
SUMMARY:Jeanne Gerulskis Science Playground - McAuliffe-Shepard Discovery Center\, Concord NH
DESCRIPTION:Jeanne Gerulskis Science Playground 2026 opening day is Saturday\, April 11\, 2026\n\nOpen 10:30 am – 4pm on Days the Science Center is Open.\nHappy Spring Break MA/NH! The Discovery Center is open daily until May 3rd\, 2026!\n\nAfter May 3 Hours:\nWednesday-Sunday 10:30am-4pm\n\n\n\nPlan your visit here: www.starhop.com/plan-your-visit \n\n\n\n\nLearn more about the Science Playground here: www.starhop.com/jeanne-gerulskis-science-playground\n\nMcAuliffe-Shepard Discovery Center / 2 Institute Dr. /  Concord NH\n603-271-7827
URL:https://www.lakesregion.org/event/jeanne-gerulskis-science-playground-mcauliffe-shepard-discovery-center-concord-nh/2026-05-01/
CATEGORIES:Family Fun,Outdoor Adventure
ATTACH;FMTTYPE=image/png:https://www.lakesregion.org/wp-content/uploads/2026/04/unnamed-2026-04-17T155845.477.png
END:VEVENT
BEGIN:VEVENT
DTSTART;TZID=America/New_York:20260502T103000
DTEND;TZID=America/New_York:20260502T160000
DTSTAMP:20260424T080732
CREATED:20260417T201442Z
LAST-MODIFIED:20260417T202144Z
UID:10047313-1777717800-1777737600@www.lakesregion.org
SUMMARY:Jeanne Gerulskis Science Playground - McAuliffe-Shepard Discovery Center\, Concord NH
DESCRIPTION:Jeanne Gerulskis Science Playground 2026 opening day is Saturday\, April 11\, 2026\n\nOpen 10:30 am – 4pm on Days the Science Center is Open.\nHappy Spring Break MA/NH! The Discovery Center is open daily until May 3rd\, 2026!\n\nAfter May 3 Hours:\nWednesday-Sunday 10:30am-4pm\n\n\n\nPlan your visit here: www.starhop.com/plan-your-visit \n\n\n\n\nLearn more about the Science Playground here: www.starhop.com/jeanne-gerulskis-science-playground\n\nMcAuliffe-Shepard Discovery Center / 2 Institute Dr. /  Concord NH\n603-271-7827
URL:https://www.lakesregion.org/event/jeanne-gerulskis-science-playground-mcauliffe-shepard-discovery-center-concord-nh/2026-05-02/
CATEGORIES:Family Fun,Outdoor Adventure
ATTACH;FMTTYPE=image/png:https://www.lakesregion.org/wp-content/uploads/2026/04/unnamed-2026-04-17T155845.477.png
END:VEVENT
BEGIN:VEVENT
DTSTART;TZID=America/New_York:20260503T103000
DTEND;TZID=America/New_York:20260503T160000
DTSTAMP:20260424T080732
CREATED:20260417T201442Z
LAST-MODIFIED:20260417T202144Z
UID:10047314-1777804200-1777824000@www.lakesregion.org
SUMMARY:Jeanne Gerulskis Science Playground - McAuliffe-Shepard Discovery Center\, Concord NH
DESCRIPTION:Jeanne Gerulskis Science Playground 2026 opening day is Saturday\, April 11\, 2026\n\nOpen 10:30 am – 4pm on Days the Science Center is Open.\nHappy Spring Break MA/NH! The Discovery Center is open daily until May 3rd\, 2026!\n\nAfter May 3 Hours:\nWednesday-Sunday 10:30am-4pm\n\n\n\nPlan your visit here: www.starhop.com/plan-your-visit \n\n\n\n\nLearn more about the Science Playground here: www.starhop.com/jeanne-gerulskis-science-playground\n\nMcAuliffe-Shepard Discovery Center / 2 Institute Dr. /  Concord NH\n603-271-7827
URL:https://www.lakesregion.org/event/jeanne-gerulskis-science-playground-mcauliffe-shepard-discovery-center-concord-nh/2026-05-03/
CATEGORIES:Family Fun,Outdoor Adventure
ATTACH;FMTTYPE=image/png:https://www.lakesregion.org/wp-content/uploads/2026/04/unnamed-2026-04-17T155845.477.png
END:VEVENT
END:VCALENDAR